BEGIN:VCALENDAR
VERSION:2.0
PRODID:-//ABPS - ECPv6.15.20//NONSGML v1.0//EN
CALSCALE:GREGORIAN
METHOD:PUBLISH
X-WR-CALNAME:ABPS
X-ORIGINAL-URL:https://www.abps.org.uk
X-WR-CALDESC:Events for ABPS
REFRESH-INTERVAL;VALUE=DURATION:PT1H
X-Robots-Tag:noindex
X-PUBLISHED-TTL:PT1H
BEGIN:VTIMEZONE
TZID:Europe/London
BEGIN:DAYLIGHT
TZOFFSETFROM:+0000
TZOFFSETTO:+0100
TZNAME:BST
DTSTART:20220327T010000
END:DAYLIGHT
BEGIN:STANDARD
TZOFFSETFROM:+0100
TZOFFSETTO:+0000
TZNAME:GMT
DTSTART:20221030T010000
END:STANDARD
BEGIN:DAYLIGHT
TZOFFSETFROM:+0000
TZOFFSETTO:+0100
TZNAME:BST
DTSTART:20230326T010000
END:DAYLIGHT
BEGIN:STANDARD
TZOFFSETFROM:+0100
TZOFFSETTO:+0000
TZNAME:GMT
DTSTART:20231029T010000
END:STANDARD
BEGIN:DAYLIGHT
TZOFFSETFROM:+0000
TZOFFSETTO:+0100
TZNAME:BST
DTSTART:20240331T010000
END:DAYLIGHT
BEGIN:STANDARD
TZOFFSETFROM:+0100
TZOFFSETTO:+0000
TZNAME:GMT
DTSTART:20241027T010000
END:STANDARD
END:VTIMEZONE
BEGIN:VEVENT
DTSTART;TZID=Europe/London:20230701T100000
DTEND;TZID=Europe/London:20230701T160000
DTSTAMP:20260425T000504
CREATED:20211111T170509Z
LAST-MODIFIED:20230408T091026Z
UID:8026-1688205600-1688227200@www.abps.org.uk
SUMMARY:MIDPEX 2023
DESCRIPTION:    \nBi-Annual Stamp Fair for over 80 Dealers and at least 40 Specialist Societies. An event not to be missed.
URL:https://www.abps.org.uk/event/midpex-2023/
LOCATION:Warwickshire Exhibition Centre\, United Kingdom
CATEGORIES:National Events,Regional Events
ATTACH;FMTTYPE=image/jpeg:https://www.abps.org.uk/wp-content/uploads/Midpex-2023-Logo.jpg
END:VEVENT
BEGIN:VEVENT
DTSTART;VALUE=DATE:20230707
DTEND;VALUE=DATE:20230708
DTSTAMP:20260425T000504
CREATED:20230216T165958Z
LAST-MODIFIED:20230220T115235Z
UID:9421-1688688000-1688774399@www.abps.org.uk
SUMMARY:Strand Stamp Fair
DESCRIPTION:Stamp & postal history fair\nOpen 9am – 3pm (but as some table holders travel long distances to get here\, they may leave before the end\, so we recommend you come early)\nFree entry
URL:https://www.abps.org.uk/event/strand-stamp-fair-5/
LOCATION:Royal National Hotel\, 38-51 Bedford Way\, London\, WC1H 0DG\, United Kingdom
CATEGORIES:Regional Events
END:VEVENT
BEGIN:VEVENT
DTSTART;TZID=Europe/London:20230708T100000
DTEND;TZID=Europe/London:20230708T140000
DTSTAMP:20260425T000504
CREATED:20221029T084611Z
LAST-MODIFIED:20221029T084611Z
UID:9158-1688810400-1688824800@www.abps.org.uk
SUMMARY:Telford Stamp\, Postcard and Coin Fair
DESCRIPTION:IN THE BELMONT COMMUNITY HALL\, WELLINGTON CENTRE\, TELFORD.  TF1 1HU. \nSITUATED OFF THE FAR SIDE FROM THE ENTRANCE TO THE FREE BELMONT/TAN BANK CAR PARK\, WELLINGTON\, TELFORD.  POST CODE = TF1 1HJ. \n(TAKES YOU TO THE CAR PARK ENTRANCE) \nGOOD RANGE OF STAMPS\, POSTCARDS AND COINS AVAILABLE.  ITEMS BOUGHT AND SOLD.  FREE ENTRY. \nSEE A RANGE OF MATERIAL BEFORE BUYING AND TALK TO THE DEALERS.  BRING IN SPARE MATERIAL AND DISCUSS SELLING TO A DEALER IF YOU WISH. \nMASKS AND SOCIAL DISTANCING ARE OPTIONAL OR JUST BROWSE AT YOUR LEISURE.   HAND GEL AVAILABLE. ONLY COME IF YOU ARE FREE OF COVID SYMPTOMS. \nFRESHLY COOKED LIGHT REFRESHMENTS AVAILABLE. \nANY ENQUIRIES TO RICHARD CAMP.  TELE:  01952-405458 \n  \nOTHER DATES AND DETAILS FOR 2023. \nSATURDAY\, 14TH OCTOBER\, 2023\, 10AM TO 2PM.
URL:https://www.abps.org.uk/event/telford-stamp-postcard-and-coin-fair-3/
LOCATION:Belmont Hall\, Wellington\, Telford\, TF1 1HJ\, United Kingdom
CATEGORIES:Local Events
END:VEVENT
BEGIN:VEVENT
DTSTART;TZID=Europe/London:20230715T020000
DTEND;TZID=Europe/London:20230715T150000
DTSTAMP:20260425T000504
CREATED:20220907T095628Z
LAST-MODIFIED:20220907T095628Z
UID:9081-1689386400-1689433200@www.abps.org.uk
SUMMARY:GBPS Zoom Display
DESCRIPTION:Zoom Display by Tony Fisher on “Unusual & Rare Items in My Collection”. \nPlease go to the GBPS website to register. \nGuests Welcome.
URL:https://www.abps.org.uk/event/gbps-zoom-display/
LOCATION:Oxfordshire
CATEGORIES:National Events
END:VEVENT
BEGIN:VEVENT
DTSTART;VALUE=DATE:20230721
DTEND;VALUE=DATE:20230723
DTSTAMP:20260425T000504
CREATED:20221111T141736Z
LAST-MODIFIED:20221112T103955Z
UID:9180-1689897600-1690070399@www.abps.org.uk
SUMMARY:York Stamp & Coin Fair
DESCRIPTION:A stamp\, postal history\, coins\, medals and more Fair. Open 10am-5pm on Friday and 10am-4pm on Saturday. Free entry. Refreshments available
URL:https://www.abps.org.uk/event/york-stamp-coin-fair-2/
LOCATION:York Racecourse\, The Raceourse\, York\, YO23 1EX\, United Kingdom
CATEGORIES:National Events
END:VEVENT
BEGIN:VEVENT
DTSTART;TZID=Europe/London:20230730T100000
DTEND;TZID=Europe/London:20230730T160000
DTSTAMP:20260425T000504
CREATED:20230629T114718Z
LAST-MODIFIED:20230630T053037Z
UID:9774-1690711200-1690732800@www.abps.org.uk
SUMMARY:Southport Stamp and Postcard Fair
DESCRIPTION:Bi-Monthly Fair on last Sunday of alternate months (Jan\, Mar\, May\, July\, Sept\, Nov) 10am-4pm. Admission 50p (or free with complimentary ticket or ABPS card).
URL:https://www.abps.org.uk/event/southport-stamp-and-postcard-fair-2/
LOCATION:Royal Clifton Hotel\, The Promenade\, Southport\, PR8 1RB\, United Kingdom
CATEGORIES:Local Events
END:VEVENT
END:VCALENDAR