BEGIN:VCALENDAR
VERSION:2.0
PRODID:-//ABPS - ECPv6.15.20//NONSGML v1.0//EN
CALSCALE:GREGORIAN
METHOD:PUBLISH
X-WR-CALNAME:ABPS
X-ORIGINAL-URL:https://www.abps.org.uk
X-WR-CALDESC:Events for ABPS
REFRESH-INTERVAL;VALUE=DURATION:PT1H
X-Robots-Tag:noindex
X-PUBLISHED-TTL:PT1H
BEGIN:VTIMEZONE
TZID:Europe/London
BEGIN:DAYLIGHT
TZOFFSETFROM:+0000
TZOFFSETTO:+0100
TZNAME:BST
DTSTART:20220327T010000
END:DAYLIGHT
BEGIN:STANDARD
TZOFFSETFROM:+0100
TZOFFSETTO:+0000
TZNAME:GMT
DTSTART:20221030T010000
END:STANDARD
BEGIN:DAYLIGHT
TZOFFSETFROM:+0000
TZOFFSETTO:+0100
TZNAME:BST
DTSTART:20230326T010000
END:DAYLIGHT
BEGIN:STANDARD
TZOFFSETFROM:+0100
TZOFFSETTO:+0000
TZNAME:GMT
DTSTART:20231029T010000
END:STANDARD
BEGIN:DAYLIGHT
TZOFFSETFROM:+0000
TZOFFSETTO:+0100
TZNAME:BST
DTSTART:20240331T010000
END:DAYLIGHT
BEGIN:STANDARD
TZOFFSETFROM:+0100
TZOFFSETTO:+0000
TZNAME:GMT
DTSTART:20241027T010000
END:STANDARD
END:VTIMEZONE
BEGIN:VEVENT
DTSTART;TZID=Europe/London:20230603T100000
DTEND;TZID=Europe/London:20230603T160000
DTSTAMP:20260425T015417
CREATED:20230419T110915Z
LAST-MODIFIED:20230419T111024Z
UID:9640-1685786400-1685808000@www.abps.org.uk
SUMMARY:RINGPEX 2023
DESCRIPTION:12 Stamp & Postcard Dealers. Refreshments All Day\, including the famous Ringpex bacon rolls. Penny Black Raffle. \nPublic Parking nearby.
URL:https://www.abps.org.uk/event/ricgpex-2023/
LOCATION:Greyfriars Community Centre\, Christchurch Road\, Ringwood\, BH24 1DW
CATEGORIES:Local Events,Regional Events
ORGANIZER;CN="Ringwood Philatelic Society":MAILTO:anneandgordon@btinternet.com
END:VEVENT
BEGIN:VEVENT
DTSTART;VALUE=DATE:20230609
DTEND;VALUE=DATE:20230612
DTSTAMP:20260425T015417
CREATED:20230220T150435Z
LAST-MODIFIED:20230220T150435Z
UID:9444-1686268800-1686527999@www.abps.org.uk
SUMMARY:ABPS CONGRESS 2023
DESCRIPTION:Full details of the ABPS Congress including the programme and booking form can be found in the Congress section of the ABPS website. \nThis is an event for all collectors\, whether beginner or experienced collectors with a range of exceptional displays\, talks and lively discussions. It is very much a social occasion to be enjoyed by all. It is possible to attend as a day visitor if you cannot attend the full event. It is also possible to stay at a different local hotel if the Congress hotel does not suit you.
URL:https://www.abps.org.uk/event/abps-congress-2023/
LOCATION:Imperial Hotel\, Torquay
CATEGORIES:National Events
ATTACH;FMTTYPE=image/png:https://www.abps.org.uk/wp-content/uploads/Congress-Logo.png
END:VEVENT
BEGIN:VEVENT
DTSTART;TZID=Europe/London:20230610T100000
DTEND;TZID=Europe/London:20230610T160000
DTSTAMP:20260425T015417
CREATED:20230220T154924Z
LAST-MODIFIED:20230220T155135Z
UID:9458-1686391200-1686412800@www.abps.org.uk
SUMMARY:SWINPEX 2023
DESCRIPTION:
URL:https://www.abps.org.uk/event/swinpex-2023/
LOCATION:Grange Leisure & Community Centre\, Stratton St. Margaret\, Swindon\, SN3 4JY
CATEGORIES:Regional Events
ORGANIZER;CN="Swindon Philatelic Society":MAILTO:gibbons35@gmail.com
END:VEVENT
BEGIN:VEVENT
DTSTART;VALUE=DATE:20230616
DTEND;VALUE=DATE:20230618
DTSTAMP:20260425T015417
CREATED:20230325T160058Z
LAST-MODIFIED:20230325T160058Z
UID:9531-1686873600-1687046399@www.abps.org.uk
SUMMARY:Stafford Stamp Show 2023
DESCRIPTION:Stamps\, Postal History and Postcards. Refreshments available both days. Around 50 International Dealers \nFriday 10am to 5pm \nSaturday 10am to 3.30pm
URL:https://www.abps.org.uk/event/stafford-stamp-show-2023/
LOCATION:Staffordshire County Showground\, Ingestre Suite\, Weston Road\, Stafford\, West Midlands\, ST18 0BD\, United Kingdom
CATEGORIES:Regional Events
ORGANIZER;CN="John & Jane Rice":MAILTO:info@john-rice-stamps.co.uk
END:VEVENT
BEGIN:VEVENT
DTSTART;TZID=Europe/London:20230617T080000
DTEND;TZID=Europe/London:20230617T170000
DTSTAMP:20260425T015417
CREATED:20220907T095412Z
LAST-MODIFIED:20220907T095412Z
UID:9079-1686988800-1687021200@www.abps.org.uk
SUMMARY:GBPS Display Meeting - The President's Guest
DESCRIPTION:11am: Display by Ian Marshall FRPSL (The President’s Guest) on Coffee Houses \n2pm: Society AGM \nGuests Welcome.
URL:https://www.abps.org.uk/event/gbps-display-meeting-the-presidents-guest/
LOCATION:Royal Philatelic Society London\, 15 Abchurch Lane\, London\, EC4N 7BW\, United Kingdom
CATEGORIES:National Events
END:VEVENT
END:VCALENDAR