BEGIN:VCALENDAR
VERSION:2.0
PRODID:-//ABPS - ECPv6.15.20//NONSGML v1.0//EN
CALSCALE:GREGORIAN
METHOD:PUBLISH
X-WR-CALNAME:ABPS
X-ORIGINAL-URL:https://www.abps.org.uk
X-WR-CALDESC:Events for ABPS
REFRESH-INTERVAL;VALUE=DURATION:PT1H
X-Robots-Tag:noindex
X-PUBLISHED-TTL:PT1H
BEGIN:VTIMEZONE
TZID:Europe/London
BEGIN:DAYLIGHT
TZOFFSETFROM:+0000
TZOFFSETTO:+0100
TZNAME:BST
DTSTART:20200329T010000
END:DAYLIGHT
BEGIN:STANDARD
TZOFFSETFROM:+0100
TZOFFSETTO:+0000
TZNAME:GMT
DTSTART:20201025T010000
END:STANDARD
BEGIN:DAYLIGHT
TZOFFSETFROM:+0000
TZOFFSETTO:+0100
TZNAME:BST
DTSTART:20210328T010000
END:DAYLIGHT
BEGIN:STANDARD
TZOFFSETFROM:+0100
TZOFFSETTO:+0000
TZNAME:GMT
DTSTART:20211031T010000
END:STANDARD
BEGIN:DAYLIGHT
TZOFFSETFROM:+0000
TZOFFSETTO:+0100
TZNAME:BST
DTSTART:20220327T010000
END:DAYLIGHT
BEGIN:STANDARD
TZOFFSETFROM:+0100
TZOFFSETTO:+0000
TZNAME:GMT
DTSTART:20221030T010000
END:STANDARD
END:VTIMEZONE
BEGIN:VTIMEZONE
TZID:UTC
BEGIN:STANDARD
TZOFFSETFROM:+0000
TZOFFSETTO:+0000
TZNAME:UTC
DTSTART:20200101T000000
END:STANDARD
END:VTIMEZONE
BEGIN:VEVENT
DTSTART;TZID=Europe/London:20211120T100000
DTEND;TZID=Europe/London:20211120T170000
DTSTAMP:20260424T221516
CREATED:20211111T210012Z
LAST-MODIFIED:20211111T211305Z
UID:8029-1637402400-1637427600@www.abps.org.uk
SUMMARY:Great Britain Philatelic Society Meeting
DESCRIPTION:GBPS All day Meeting: \n11am     Decimalisation and the Post Office by Maurice Buxton FRPSL \n2.15pm     Oddities in GB Postal History before 1840 by Peter Chadwick FRPSL \nVisitors Welcome
URL:https://www.abps.org.uk/event/great-britain-philatelic-society-meeting/
LOCATION:Royal Philatelic Society London\, 15 Abchurch Lane\, London\, EC4N 7BW\, United Kingdom
CATEGORIES:Regional Events
ATTACH;FMTTYPE=image/png:https://www.abps.org.uk/wp-content/uploads/GBPS.png
ORGANIZER;CN="GBPS":MAILTO:membership@gbps.org.uk
END:VEVENT
BEGIN:VEVENT
DTSTART;TZID=Europe/London:20211120T093000
DTEND;TZID=Europe/London:20211120T153000
DTSTAMP:20260424T221516
CREATED:20210525T092931Z
LAST-MODIFIED:20210525T094626Z
UID:7661-1637400600-1637422200@www.abps.org.uk
SUMMARY:Plymouth Stamp & Postcard Fair
DESCRIPTION:More than ten dealers buying and selling. Light refreshments. Free admission. Plenty of Parking (The Broadway Car Park).
URL:https://www.abps.org.uk/event/plymouth-stamp-postcard-fair/
LOCATION:Plymstock Community Centre\, 6 Memory Lane\, Plymstock\, Plymouth\, PL9 9GH\, United Kingdom
CATEGORIES:Local Events
ATTACH;FMTTYPE=image/jpeg:https://www.abps.org.uk/wp-content/uploads/Plymstock-Stamp-Fair.jpg
ORGANIZER;CN="Phoenix Fairs (South West)":MAILTO:petereagles@btinternet.com
END:VEVENT
BEGIN:VEVENT
DTSTART;VALUE=DATE:20211120
DTEND;VALUE=DATE:20211122
DTSTAMP:20260424T221516
CREATED:20211110T095846Z
LAST-MODIFIED:20211111T161402Z
UID:7999-1637366400-1637539199@www.abps.org.uk
SUMMARY:Leeds Philatelic Society Annual Stamp Fair
DESCRIPTION:Large Two Day Stamp Fair. Over 30 dealers attending. Free and ample parking.\nHot and cold food available each day.\nYPA AGM on Saturday 20th November.\nGood Accessibility
URL:https://www.abps.org.uk/event/leeds-philatelic-society-annual-stamp-fair/
LOCATION:Pudsey Civic Hall\, Dawsons Corner\, Pusey\, Leeds\, Yorkshire\, LS28 5TA\, United Kingdom
CATEGORIES:Regional Events
END:VEVENT
BEGIN:VEVENT
DTSTART;VALUE=DATE:20211119
DTEND;VALUE=DATE:20211123
DTSTAMP:20260424T221516
CREATED:20200515T090457Z
LAST-MODIFIED:20210415T082316Z
UID:2022-1637280000-1637625599@www.abps.org.uk
SUMMARY:NOTOS 2021 European Philatelic Exhibition
DESCRIPTION:NOTOS is a full European International with FEPA patronage and FIP\, AIJP and AEP recognition. \n\nAll FIP and FEPA Competitive and Experimental Classes including Open\, Modern and Postcards\n“Classe des Champions” for distinguished exhibits\nCourt of Honour with invited exhibits\n\nFees are 30 Euros per frame and 30 Euros for Literature entries plus a UK handling and transport charge to be advised. \nExhibits must already have achieved at least a Vermeil medal (75 points) at a national show or come with the recommendation of the UK Commissioner \nFor entries\, contact Mike Roberts. Email: mjyr@btinternet.com or telephone 07774 124059
URL:https://www.abps.org.uk/event/notos-2021-european-philatelic-exhibition/
LOCATION:Zappeion Exhibition Centre\, Athens\, Greece
CATEGORIES:International Exhibitions
ATTACH;FMTTYPE=image/jpeg:https://www.abps.org.uk/wp-content/uploads/notos_2021-200.jpg
ORGANIZER;CN="Mike Roberts":MAILTO:mjyr@btinternet.com
END:VEVENT
BEGIN:VEVENT
DTSTART;TZID=Europe/London:20211114T100000
DTEND;TZID=Europe/London:20211114T100000
DTSTAMP:20260424T221516
CREATED:20211112T150342Z
LAST-MODIFIED:20211114T125654Z
UID:8042-1636884000-1636884000@www.abps.org.uk
SUMMARY:Huntingdonshire Philatelic Society Stamp Fair with Post Cards
DESCRIPTION:Huntingdonshire Philatelic Society Stamp Fair with Postcards on the 19th February 2022 at the Corn Exchange St Ives Town Centre PE27 5AD. \n10am-3pm Free admission. For further information contact The Press Officer on 01480 468037.
URL:https://www.abps.org.uk/event/huntingdonshire-philatelic-society-stamp-fair-with-post-cards/
LOCATION:The Corn Exchange\, Town Centre\, Market Hill\, St Ives\, Huntingdonshire\, PE27 5AD\, United Kingdom
CATEGORIES:Regional Events
END:VEVENT
BEGIN:VEVENT
DTSTART;TZID=UTC:20211109T093000
DTEND;TZID=UTC:20211113T180000
DTSTAMP:20260424T221516
CREATED:20200515T082427Z
LAST-MODIFIED:20211108T120919Z
UID:2007-1636450200-1636826400@www.abps.org.uk
SUMMARY:IPEX 2021 International Stamp Exhibition **POSTPONED**
DESCRIPTION:IPEX 2021\n  Cape Town International Convention Centre \nIPEX 2021 is a 2000 frame\, specialised International Philatelic Exhibition (IPEX) under the patronage of the F.I.P. \nThe Commissioner General of the Cape Town 2021 FIP World specialized exhibition has just informed us about the postponement of the event. \nThe new dates are November 9 – 13\, 2021 (formerly March 2021) \nMore information can be found at capetown2021.org \nCompetitive classes: \n\n\n\nAerophilately\nOpen\nRevenue\n\n\nLiterature\nPostal History\nThematic\n\n\nModern\nPostal Stationery\nTraditional\n\n\n\nAlso: Picture Postcards and One Frame \nEntry fee is US$65 per frame\, US$80 for single frame entries and US$30 for Literature plus a UK handling and transport charge to be advised. \nUK deadline for entries is 15th August 2020. Exhibits must have achieved a minimum of a Vermeil medal (75 marks or above) at a national show. \nPlease contact the UK Commissioner\, Jon Aitchison. Email: britishlocals@aol.com \nCOURT OF HONOUR \nThe Court of Honour will feature award-winning international exhibits. Special sections will be devoted to an exhibition of the philatelic Gems of Africa; and to Gerhard Kamffer’s award-winning exhibit\, the ‘Road to Democracy‘.
URL:https://www.abps.org.uk/event/ipex-2021-international-stamp-exhibition/
LOCATION:Cape Town International Convention Centre\, South Africa
CATEGORIES:International Exhibitions
ATTACH;FMTTYPE=image/png:https://www.abps.org.uk/wp-content/uploads/cape-town-2021-logo-300x213-1.png
ORGANIZER;CN="Jon Aitchison":MAILTO:britishlocals@aol.com
END:VEVENT
BEGIN:VEVENT
DTSTART;TZID=Europe/London:20211106T100000
DTEND;TZID=Europe/London:20211106T160000
DTSTAMP:20260424T221516
CREATED:20210106T110343Z
LAST-MODIFIED:20210106T110343Z
UID:4905-1636192800-1636214400@www.abps.org.uk
SUMMARY:Taunton Stamp Club Annual Stamp Fair
DESCRIPTION:
URL:https://www.abps.org.uk/event/taunton-stamp-club-annual-stamp-fair/
LOCATION:St James Church Hall\, St James Street\, Taunton\, Somerset\, TA1 1JS\, United Kingdom
CATEGORIES:Local Events
ORGANIZER;CN="Peter Hardie":MAILTO:peterhardie.themail@gmail.com
END:VEVENT
BEGIN:VEVENT
DTSTART;TZID=Europe/London:20211030T100000
DTEND;TZID=Europe/London:20211030T143000
DTSTAMP:20260424T221516
CREATED:20211025T103628Z
LAST-MODIFIED:20211025T103628Z
UID:7907-1635588000-1635604200@www.abps.org.uk
SUMMARY:Portadown & District PS & The Northern Ireland Postcard Club Fair
DESCRIPTION:A Collector’s Fair & Displays. Admission Free. Free Valuations.
URL:https://www.abps.org.uk/event/portadown-district-ps-the-northern-ireland-postcard-club-fair/
LOCATION:Portadown Town Hall
CATEGORIES:Local Events
END:VEVENT
BEGIN:VEVENT
DTSTART;TZID=Europe/London:20211027T093000
DTEND;TZID=Europe/London:20211027T153000
DTSTAMP:20260424T221516
CREATED:20210525T093854Z
LAST-MODIFIED:20210525T094529Z
UID:7669-1635327000-1635348600@www.abps.org.uk
SUMMARY:Torquay Stamp and Postcard Fair
DESCRIPTION:More than ten dealers buying and selling. Light refreshments. Free admission. Plenty of Parking.
URL:https://www.abps.org.uk/event/torquay-stamp-and-postcard-fair/
LOCATION:Torquay Grammar School\, Shiphay Manor Drive\, Torquay\, Devon\, TQ2 7EL\, United Kingdom
CATEGORIES:Local Events
ORGANIZER;CN="Phoenix Fairs (South West)":MAILTO:petereagles@btinternet.com
END:VEVENT
BEGIN:VEVENT
DTSTART;TZID=Europe/London:20211009T100000
DTEND;TZID=Europe/London:20211009T160000
DTSTAMP:20260424T221516
CREATED:20201127T104845Z
LAST-MODIFIED:20201127T104845Z
UID:4837-1633773600-1633795200@www.abps.org.uk
SUMMARY:South of England Stamp & Post Card Fair
DESCRIPTION:Stamp & Post Card Fair
URL:https://www.abps.org.uk/event/south-of-england-stamp-post-card-fair/
LOCATION:Ardingly Showground\, Norfolk Pavilion\, Ardingly Showground\, Ardingly\, RH17 6TL\, United Kingdom
CATEGORIES:Regional Events
END:VEVENT
BEGIN:VEVENT
DTSTART;TZID=UTC:20210929T100000
DTEND;TZID=UTC:20211002T170000
DTSTAMP:20260424T221516
CREATED:20200510T125408Z
LAST-MODIFIED:20210422T155306Z
UID:1638-1632909600-1633194000@www.abps.org.uk
SUMMARY:Autumn Stampex 2021
DESCRIPTION:Stampex is the UK’s largest Stamp Fair and also features the National Stamp Exhibition\, organised by the ABPS\, and a programme of seminars on various topics. \nFull details can be found on their website. Opening time on the opening day\, Wednesday\, is usually 11am.
URL:https://www.abps.org.uk/event/autumn-stampex-international-2021/
LOCATION:Business Design Centre\, 52 Upper St\, The Angel\,\, London\, N1 0QH
CATEGORIES:National Events
ATTACH;FMTTYPE=image/jpeg:https://www.abps.org.uk/wp-content/uploads/Opening-Day.jpg
ORGANIZER;CN="Philatelic Traders' Society":MAILTO:info@thepts.net
END:VEVENT
BEGIN:VEVENT
DTSTART;TZID=Europe/London:20210926T100000
DTEND;TZID=Europe/London:20210926T150000
DTSTAMP:20260424T221516
CREATED:20210525T093527Z
LAST-MODIFIED:20210525T094450Z
UID:7663-1632650400-1632668400@www.abps.org.uk
SUMMARY:Peterborough Stamp Fair
DESCRIPTION:GB\, Commonwealth & Foreign Stamps. Postal History & First Day Covers. Listed and Unlisted Varieties. Collections & Accumulations.
URL:https://www.abps.org.uk/event/peterborough-stamp-fair/
LOCATION:Holiday Inn Peterborough\, Thorpe Wood\, Peterborough\, PE3 6SG\, United Kingdom
CATEGORIES:Local Events
ORGANIZER;CN="Richard Lewis":MAILTO:richard@lewis8571.plus.com
END:VEVENT
BEGIN:VEVENT
DTSTART;TZID=Europe/London:20210925T100000
DTEND;TZID=Europe/London:20210925T160000
DTSTAMP:20260424T221516
CREATED:20210121T113907Z
LAST-MODIFIED:20210121T121737Z
UID:4999-1632564000-1632585600@www.abps.org.uk
SUMMARY:HAMPEX 2021
DESCRIPTION:  \nHampshire Federation Show. More than 20 Dealers in stamps\, cinderellas\, postal history\, located in one large room. Selected Society Meetings are also taking place.\, including Hampshire Postal History Society\, The British Society of Australian Philately\, Southampton and District Philatelic Society\, Perfins Society \nEntry Fee of £1 includes one entry to a prize draw. \nThe event will\, of course be subject to any Government guidelines or rules applicable at the time of the event taking place. \nSee the website for more information.
URL:https://www.abps.org.uk/event/hampex-2021/
LOCATION:Wickham Centre\, Mill Lane\, Wickham\, Fareham\, PO17 5AL\, United Kingdom
CATEGORIES:Regional Events
ATTACH;FMTTYPE=image/png:https://www.abps.org.uk/wp-content/uploads/HPFnewlogo3.png
ORGANIZER;CN="Julian H Jones":MAILTO:jones2@f2s.com
END:VEVENT
BEGIN:VEVENT
DTSTART;TZID=Europe/London:20210925T093000
DTEND;TZID=Europe/London:20210925T150000
DTSTAMP:20260424T221516
CREATED:20210815T085615Z
LAST-MODIFIED:20210820T072545Z
UID:7839-1632562200-1632582000@www.abps.org.uk
SUMMARY:East Malling Grand Stamp Fair
DESCRIPTION:Top dealers from the South and South East of England. Stamps\, Albums\, Postal History\, Postcards\, Ephemera etc.\, Philatelic Books and Stamp Catalogues etc. \nFree Car Parking. Refreshments. Stamp Displays on the stage. Open to Public 9.30am – 3.00pm. \nKFPS Council Meeting 11.00am. Kent Postal History Group Meeting 12.30pm – 2.30pm.
URL:https://www.abps.org.uk/event/east-malling-grand-stamp-fair-2/
LOCATION:East Malling Village Hall\, New Road\, East Malling\, Maidstone\, Kent\, ME19 6DD\, United Kingdom
CATEGORIES:Regional Events
END:VEVENT
BEGIN:VEVENT
DTSTART;VALUE=DATE:20210923
DTEND;VALUE=DATE:20210927
DTSTAMP:20260424T221516
CREATED:20200903T072029Z
LAST-MODIFIED:20200903T072029Z
UID:3624-1632355200-1632700799@www.abps.org.uk
SUMMARY:Philatelic Congress of Great Britain 2021
DESCRIPTION:     Harrogate Crowne Plaza Hotel \nPlanning is now underway for the 103rd Philatelic Congress of Great Britain\, which in 2021 will be held in Harrogate 23-26 September. The hotel booked for the event is the Crowne Plaza. Already the Congress committee have been joined by local members who will help in the planning of the event. The Congress will be a significant milestone as it sees the centenary of the signing of the Roll of Distinguished Philatelists (RDP).  Also\, because the 2020 Congress was cancelled there will be two groups signing the roll – the RDPs from 2020 and those elected in 2021! \nBooking forms for this event will be available shortly – but do get the dates in your diary now! \nFor further details or to register your interest\, please contact Steven Harrison\, ABPS Vice Chairman\, by email at sharrison500@btinternet.com or by telephone on 0121 313 0671.
URL:https://www.abps.org.uk/event/philatelic-congress-of-great-britain-2021/
LOCATION:Crowne Plaza Hotel\, Kings Road\, Harrogate\, Hg1 1XX\, United Kingdom
CATEGORIES:National Events
ATTACH;FMTTYPE=image/png:https://www.abps.org.uk/wp-content/uploads/Congress-Logo.png
END:VEVENT
BEGIN:VEVENT
DTSTART;TZID=Europe/London:20210918T093000
DTEND;TZID=Europe/London:20210918T153000
DTSTAMP:20260424T221516
CREATED:20210525T092710Z
LAST-MODIFIED:20210525T094339Z
UID:7657-1631957400-1631979000@www.abps.org.uk
SUMMARY:Plymouth Stamp Fair
DESCRIPTION:More than ten dealers buying and selling. Light refreshments. Free admission. Plenty of Parking (The Broadway Car Park).
URL:https://www.abps.org.uk/event/plymouth-stamp-fair/
LOCATION:Plymstock Community Centre\, 6 Memory Lane\, Plymstock\, Plymouth\, PL9 9GH\, United Kingdom
CATEGORIES:Local Events
ATTACH;FMTTYPE=image/jpeg:https://www.abps.org.uk/wp-content/uploads/Plymstock-Stamp-Fair.jpg
ORGANIZER;CN="Phoenix Fairs (South West)":MAILTO:petereagles@btinternet.com
END:VEVENT
BEGIN:VEVENT
DTSTART;TZID=Europe/London:20210918T093000
DTEND;TZID=Europe/London:20210918T153000
DTSTAMP:20260424T221516
CREATED:20210525T091906Z
LAST-MODIFIED:20210525T094257Z
UID:7649-1631957400-1631979000@www.abps.org.uk
SUMMARY:Plymstock Stamp and Postcard Fair
DESCRIPTION:More than ten dealers buying and selling. Light refreshments. Free admission. Plenty of Parking.
URL:https://www.abps.org.uk/event/plymstock-stamp-and-postcard-fair/
LOCATION:Plymstock Community Centre\, 6 Memory Lane\, Plymstock\, Plymouth\, PL9 9GH\, United Kingdom
CATEGORIES:Local Events
ATTACH;FMTTYPE=image/jpeg:https://www.abps.org.uk/wp-content/uploads/Plymstock-Stamp-Fair.jpg
ORGANIZER;CN="Peter Eagles":MAILTO:petereagles@btinternet.com
END:VEVENT
BEGIN:VEVENT
DTSTART;TZID=Europe/London:20210911T100000
DTEND;TZID=Europe/London:20210911T160000
DTSTAMP:20260424T221516
CREATED:20210318T104848Z
LAST-MODIFIED:20210903T083753Z
UID:6249-1631354400-1631376000@www.abps.org.uk
SUMMARY:Yeovil Stamp & Postcard Fair  **CANCELLED**
DESCRIPTION:Stamp & Postcard Dealers in the South West area. This event has now been cancelled.
URL:https://www.abps.org.uk/event/yeovil-stamp-postcard-fair/
LOCATION:Digby Memorial Hall\, Digby Road\, Yeovil\, Dorset\, DT9 3NL\, United Kingdom
CATEGORIES:Regional Events
ATTACH;FMTTYPE=image/jpeg:https://www.abps.org.uk/wp-content/uploads/Sherborne-Stamp-fair-2019.jpg
ORGANIZER;CN="Yeovil & District Philatelic Society":MAILTO:maro-dave.bryant@brvsystems.co.uk
END:VEVENT
BEGIN:VEVENT
DTSTART;TZID=Europe/London:20210904T100000
DTEND;TZID=Europe/London:20210904T160000
DTSTAMP:20260424T221516
CREATED:20210322T095002Z
LAST-MODIFIED:20210322T095002Z
UID:6860-1630749600-1630771200@www.abps.org.uk
SUMMARY:RINGPEX 2021
DESCRIPTION:Stamp and Postcard Fair
URL:https://www.abps.org.uk/event/ringpex-2021/
LOCATION:Grefriars Community Centre\, Ferndown\, Hampshire\, BH24 1DW\, United Kingdom
CATEGORIES:Local Events
END:VEVENT
BEGIN:VEVENT
DTSTART;TZID=UTC:20210825T100000
DTEND;TZID=UTC:20210830T180000
DTSTAMP:20260424T221516
CREATED:20200518T153048Z
LAST-MODIFIED:20200518T153048Z
UID:2252-1629885600-1630346400@www.abps.org.uk
SUMMARY:Philanippon 2021
DESCRIPTION:A full international exhibition under FIP patronage and FIAP auspices. Website www.japan2021.jp\nProbably all classes but awaiting an announcement about that and frame fees.\nUK deadline for entries not known yet but likely to be late 2020.\nExhibits must already have achieved at least a vermeil medal (75 marks or above) at a national show.\nFor entries please contact the UK Commissioner nominees Simon Richards at simon@sidebell.co.uk or Ben Palmer at ben_palmer@btinternet.com. \nUK handling charges have now been standardised on all international exhibitions at £25 per frame\, whether single or multiple frame exhibits\, and £25 per literature entry. This is to cover the cost of getting exhibits to and from exhibitions\, FIP capitation fees and other costs relating to processing the exhibits. Overall\, this runs at a loss. Exhibits that are carried to and returned from an exhibition by the exhibitor are charged at half price. There is no UK handling charge for Youth exhibits \n 
URL:https://www.abps.org.uk/event/philanippon-2021/
LOCATION:Cornwall\, United Kingdom
CATEGORIES:International Exhibitions
ATTACH;FMTTYPE=image/jpeg:https://www.abps.org.uk/wp-content/uploads/Philanippon-2021-scaled.jpg
ORGANIZER;CN="Ben Palmer":MAILTO:ben_palmer@btinternet.com
END:VEVENT
BEGIN:VEVENT
DTSTART;TZID=Europe/London:20210807T100000
DTEND;TZID=Europe/London:20210807T160000
DTSTAMP:20260424T221516
CREATED:20210701T113145Z
LAST-MODIFIED:20210729T210055Z
UID:7759-1628330400-1628352000@www.abps.org.uk
SUMMARY:NEWQUEX 2021
DESCRIPTION:Stamp and Postcard Fair
URL:https://www.abps.org.uk/event/newquex-2021/
LOCATION:Trevisker St Eval Community Centre\, Orion Drive\, St Eval\, Cornwall\, PL27 7TU\, United Kingdom
CATEGORIES:Local Events
END:VEVENT
BEGIN:VEVENT
DTSTART;TZID=UTC:20210703T100000
DTEND;TZID=UTC:20210703T163000
DTSTAMP:20260424T221516
CREATED:20200515T090926Z
LAST-MODIFIED:20210525T184556Z
UID:2027-1625306400-1625329800@www.abps.org.uk
SUMMARY:MIDPEX 2021
DESCRIPTION:This major ABPS National Show\, organised by the Midlands Philatelic Federation\, is a a showcase for the UK specialist stamp societies with over 40 Societies and 70 dealers taking part. It is an event not to be missed.
URL:https://www.abps.org.uk/event/midpex-2021/
LOCATION:Warwickshire Exhibition Centre\, United Kingdom
CATEGORIES:National Events
ATTACH;FMTTYPE=image/jpeg:https://www.abps.org.uk/wp-content/uploads/Midpex.jpg
END:VEVENT
BEGIN:VEVENT
DTSTART;TZID=Europe/London:20210701T000000
DTEND;TZID=Europe/London:20210701T000000
DTSTAMP:20260424T221516
CREATED:20210629T175516Z
LAST-MODIFIED:20210701T162951Z
UID:7756-1625097600-1625097600@www.abps.org.uk
SUMMARY:South of England Stamp and Post Card Fair
DESCRIPTION:One day stamp and post card fair with 40+ dealers in attendance.
URL:https://www.abps.org.uk/event/south-of-england-stamp-and-post-card-fair/
LOCATION:Cornwall\, United Kingdom
CATEGORIES:Regional Events
END:VEVENT
BEGIN:VEVENT
DTSTART;TZID=Europe/London:20210626T110000
DTEND;TZID=Europe/London:20210626T163000
DTSTAMP:20260424T221516
CREATED:20200902T093916Z
LAST-MODIFIED:20200902T093953Z
UID:3525-1624705200-1624725000@www.abps.org.uk
SUMMARY:Great Britain Philatelic Society: The Philatelic Congress of Great Britain
DESCRIPTION:11am: Morning Session: The President’s Guest: Steven Harrison FRPSL: The Philatelic Congress of Great Britain \n2.15pm: Afternoon Session: Annual General Meeting followed by Members Displays
URL:https://www.abps.org.uk/event/great-britain-philatelic-society-the-philatelic-congress-of-great-britain/
LOCATION:Royal Philatelic Society London\, 15 Abchurch Lane\, London\, EC4N 7BW\, United Kingdom
CATEGORIES:Regional Events
ATTACH;FMTTYPE=image/png:https://www.abps.org.uk/wp-content/uploads/LOGO.png
ORGANIZER;CN="GBPS":MAILTO:membership@gbps.org.uk
END:VEVENT
BEGIN:VEVENT
DTSTART;VALUE=DATE:20210612
DTEND;VALUE=DATE:20210613
DTSTAMP:20260424T221516
CREATED:20200902T093418Z
LAST-MODIFIED:20210303T103727Z
UID:3520-1623456000-1623542399@www.abps.org.uk
SUMMARY:SWINPEX including Great Britain Philatelic Society Regional Meeting  **CANCELLED**
DESCRIPTION:Members Displays
URL:https://www.abps.org.uk/event/swinpex-great-britain-philatelic-society/
LOCATION:Cornwall\, United Kingdom
CATEGORIES:Regional Events
ATTACH;FMTTYPE=image/png:https://www.abps.org.uk/wp-content/uploads/LOGO.png
END:VEVENT
BEGIN:VEVENT
DTSTART;TZID=Europe/London:20210606T100000
DTEND;TZID=Europe/London:20210606T160000
DTSTAMP:20260424T221516
CREATED:20200908T143326Z
LAST-MODIFIED:20200908T143326Z
UID:4016-1622973600-1622995200@www.abps.org.uk
SUMMARY:Taunton Stamp Club Annual Fair
DESCRIPTION:Annual Stamp Fair with 10 + Dealers. Club Table
URL:https://www.abps.org.uk/event/taunton-stamp-club-annual-fair/
LOCATION:St James Church Hall\, St James Street\, Taunton\, Somerset\, TA1 1JS\, United Kingdom
CATEGORIES:Regional Events
ORGANIZER;CN="Peter Hardie":MAILTO:peterhardie.themail@gmail.com
END:VEVENT
BEGIN:VEVENT
DTSTART;TZID=Europe/London:20210522T110000
DTEND;TZID=Europe/London:20210522T163000
DTSTAMP:20260424T221516
CREATED:20200902T093222Z
LAST-MODIFIED:20200902T094649Z
UID:3517-1621681200-1621701000@www.abps.org.uk
SUMMARY:Great Britain Philatelic Society: Presidents Day
DESCRIPTION:11am: Morning Session: The President’s Display: The British Stamp Office – Revenue Stamps from the 17th Century to the 19th Century by Chris Harman RDP Hon. FRPSL \n2.15pm: Afternoon Session: The Immediate Past President’s Display: A Jubilee Reminiscence – a Philatelic History of the GB 1890 Penny Postage Jubilee by John Davies FRPSL
URL:https://www.abps.org.uk/event/great-britain-philatelic-society-presidents-day/
LOCATION:Royal Philatelic Society London\, 15 Abchurch Lane\, London\, EC4N 7BW\, United Kingdom
CATEGORIES:Regional Events
ATTACH;FMTTYPE=image/png:https://www.abps.org.uk/wp-content/uploads/LOGO.png
ORGANIZER;CN="GBPS":MAILTO:membership@gbps.org.uk
END:VEVENT
BEGIN:VEVENT
DTSTART;TZID=Europe/London:20210522T100000
DTEND;TZID=Europe/London:20210522T160000
DTSTAMP:20260424T221516
CREATED:20210517T084353Z
LAST-MODIFIED:20210518T080931Z
UID:7632-1621677600-1621699200@www.abps.org.uk
SUMMARY:REDEX - Redruth Stamp Fair
DESCRIPTION:Annual Stamp Fair with 6 to 10 Stamp / Postcard Dealers. Note: Owing to Covid restrictions/precautions\, no catering will be available.
URL:https://www.abps.org.uk/event/redex-redruth-stamp-fair/
LOCATION:Jubilee Hall\, Wesley Building\, Wesley Street\, Redruth\, Cornwall\, TR15 2EG\, United Kingdom
CATEGORIES:Local Events
ORGANIZER;CN="Mike Whyte":MAILTO:mrwstamps05@gmail.com
END:VEVENT
BEGIN:VEVENT
DTSTART;VALUE=DATE:20210506
DTEND;VALUE=DATE:20210510
DTSTAMP:20260424T221516
CREATED:20200515T085356Z
LAST-MODIFIED:20200911T145949Z
UID:2014-1620259200-1620604799@www.abps.org.uk
SUMMARY:IBRA 2021 World Stamp Exhibition **Postponed to 2023**
DESCRIPTION:This event has now been postponed to May 25th to 28th 2023 due to the Covid 19 pandemic \nA full international exhibition under FIP patronage with FEPA recognition. All classes are accepted at 80 Euros per frame\, 110 Euros for single frame entries and 50 Euros for literature plus a UK handling and transport charge to be advised. \nUK deadline for entries is 23rd September 2020 but this is extended to 4th October 2020 for anyone seeking to obtain qualification of a new exhibit at Autumn Stampex 2020. Exhibits must have achieved at least a Vermeil medal (75 points) at a national show. For enquiries\, contact the UK Commissioner\, Frank Walton. Email: frank@frankwalton.com \nThe patronage of the stamp exhibition IBRA 2021 has taken over by the Chancellor of the Federal Republic of Germany\, Dr. Angela Merkel \nVisitors to IBRA 2021 can already look forward to a treasure trove of world rarities. 1st International Stamp Fair \n 
URL:https://www.abps.org.uk/event/ibra-2021-world-stamp-exhibition/
LOCATION:Messe Essen\, Germany
CATEGORIES:International Exhibitions
ATTACH;FMTTYPE=image/png:https://www.abps.org.uk/wp-content/uploads/IBRA-2021.png
ORGANIZER;CN="Frank Walton":MAILTO:frank@frankwalton.com
END:VEVENT
BEGIN:VEVENT
DTSTART;TZID=Europe/London:20210417T110000
DTEND;TZID=Europe/London:20210417T163000
DTSTAMP:20260424T221516
CREATED:20200902T092743Z
LAST-MODIFIED:20210117T104931Z
UID:3513-1618657200-1618677000@www.abps.org.uk
SUMMARY:Great Britain Philatelic Society **CANCELLED**
DESCRIPTION:11am: Morning Session: Stamps Issued in Rolls: KGV to QEII by David Poynton \n2.15pm: Afternoon Session: £sd Regionals by Trevor Shimell
URL:https://www.abps.org.uk/event/great-britain-philatelic-society-5/
LOCATION:Royal Philatelic Society London\, 15 Abchurch Lane\, London\, EC4N 7BW\, United Kingdom
CATEGORIES:Regional Events
ATTACH;FMTTYPE=image/png:https://www.abps.org.uk/wp-content/uploads/LOGO.png
ORGANIZER;CN="GBPS":MAILTO:membership@gbps.org.uk
END:VEVENT
END:VCALENDAR