BEGIN:VCALENDAR
VERSION:2.0
PRODID:-//ABPS - ECPv6.15.20//NONSGML v1.0//EN
CALSCALE:GREGORIAN
METHOD:PUBLISH
X-ORIGINAL-URL:https://www.abps.org.uk
X-WR-CALDESC:Events for ABPS
REFRESH-INTERVAL;VALUE=DURATION:PT1H
X-Robots-Tag:noindex
X-PUBLISHED-TTL:PT1H
BEGIN:VTIMEZONE
TZID:Europe/London
BEGIN:DAYLIGHT
TZOFFSETFROM:+0000
TZOFFSETTO:+0100
TZNAME:BST
DTSTART:20250330T010000
END:DAYLIGHT
BEGIN:STANDARD
TZOFFSETFROM:+0100
TZOFFSETTO:+0000
TZNAME:GMT
DTSTART:20251026T010000
END:STANDARD
BEGIN:DAYLIGHT
TZOFFSETFROM:+0000
TZOFFSETTO:+0100
TZNAME:BST
DTSTART:20260329T010000
END:DAYLIGHT
BEGIN:STANDARD
TZOFFSETFROM:+0100
TZOFFSETTO:+0000
TZNAME:GMT
DTSTART:20261025T010000
END:STANDARD
BEGIN:DAYLIGHT
TZOFFSETFROM:+0000
TZOFFSETTO:+0100
TZNAME:BST
DTSTART:20270328T010000
END:DAYLIGHT
BEGIN:STANDARD
TZOFFSETFROM:+0100
TZOFFSETTO:+0000
TZNAME:GMT
DTSTART:20271031T010000
END:STANDARD
END:VTIMEZONE
BEGIN:VEVENT
DTSTART;TZID=Europe/London:20261115T100000
DTEND;TZID=Europe/London:20261115T160000
DTSTAMP:20260423T190124
CREATED:20260421T091053Z
LAST-MODIFIED:20260421T091053Z
UID:11815-1794736800-1794758400@www.abps.org.uk
SUMMARY:Banbury Festival of Stamps 2026
DESCRIPTION:Stamp Fair with competitive displays on show by the Midlands Philatelic Federation and Themes Valley Philatelic Federation. \nDealer stands and Stamp Active Network for Juniors with free goodie bags.
URL:https://www.abps.org.uk/event/banbury-festival-of-stamps-2026/
LOCATION:Blessed George Napier School\, Springfield Avenue\, Banbury\, Oxfordshire\, OX16 9JD\, United Kingdom
CATEGORIES:Local Events,Regional Events
ORGANIZER;CN="Banbury Stamp Society":MAILTO:davies1890@btinternet.com
END:VEVENT
END:VCALENDAR