BEGIN:VCALENDAR
VERSION:2.0
PRODID:-//ABPS - ECPv6.15.20//NONSGML v1.0//EN
CALSCALE:GREGORIAN
METHOD:PUBLISH
X-WR-CALNAME:ABPS
X-ORIGINAL-URL:https://www.abps.org.uk
X-WR-CALDESC:Events for ABPS
REFRESH-INTERVAL;VALUE=DURATION:PT1H
X-Robots-Tag:noindex
X-PUBLISHED-TTL:PT1H
BEGIN:VTIMEZONE
TZID:Europe/London
BEGIN:DAYLIGHT
TZOFFSETFROM:+0000
TZOFFSETTO:+0100
TZNAME:BST
DTSTART:20220327T010000
END:DAYLIGHT
BEGIN:STANDARD
TZOFFSETFROM:+0100
TZOFFSETTO:+0000
TZNAME:GMT
DTSTART:20221030T010000
END:STANDARD
BEGIN:DAYLIGHT
TZOFFSETFROM:+0000
TZOFFSETTO:+0100
TZNAME:BST
DTSTART:20230326T010000
END:DAYLIGHT
BEGIN:STANDARD
TZOFFSETFROM:+0100
TZOFFSETTO:+0000
TZNAME:GMT
DTSTART:20231029T010000
END:STANDARD
BEGIN:DAYLIGHT
TZOFFSETFROM:+0000
TZOFFSETTO:+0100
TZNAME:BST
DTSTART:20240331T010000
END:DAYLIGHT
BEGIN:STANDARD
TZOFFSETFROM:+0100
TZOFFSETTO:+0000
TZNAME:GMT
DTSTART:20241027T010000
END:STANDARD
END:VTIMEZONE
BEGIN:VEVENT
DTSTART;TZID=Europe/London:20231022T100000
DTEND;TZID=Europe/London:20231022T150000
DTSTAMP:20260423T094825
CREATED:20230823T092246Z
LAST-MODIFIED:20230825T115848Z
UID:9917-1697968800-1697986800@www.abps.org.uk
SUMMARY:Morecambe Stamp Fair
DESCRIPTION:Dealers in stamps\, postal history and associated items attending. Free entry. Plenty of local parking. Refreshments available.
URL:https://www.abps.org.uk/event/morecambe-stamp-fair-3/
LOCATION:The Platform\, The Old Station Buildings\, Marine Road\, Morecambe\, LA4 4DB\, United Kingdom
CATEGORIES:Local Events,Regional Events
ORGANIZER;CN="Lesley Vincent":MAILTO:lesleyvincent1@sky.com
END:VEVENT
END:VCALENDAR