BEGIN:VCALENDAR
VERSION:2.0
PRODID:-//ABPS - ECPv6.15.20//NONSGML v1.0//EN
CALSCALE:GREGORIAN
METHOD:PUBLISH
X-ORIGINAL-URL:https://www.abps.org.uk
X-WR-CALDESC:Events for ABPS
REFRESH-INTERVAL;VALUE=DURATION:PT1H
X-Robots-Tag:noindex
X-PUBLISHED-TTL:PT1H
BEGIN:VTIMEZONE
TZID:Europe/London
BEGIN:DAYLIGHT
TZOFFSETFROM:+0000
TZOFFSETTO:+0100
TZNAME:BST
DTSTART:20250330T010000
END:DAYLIGHT
BEGIN:STANDARD
TZOFFSETFROM:+0100
TZOFFSETTO:+0000
TZNAME:GMT
DTSTART:20251026T010000
END:STANDARD
BEGIN:DAYLIGHT
TZOFFSETFROM:+0000
TZOFFSETTO:+0100
TZNAME:BST
DTSTART:20260329T010000
END:DAYLIGHT
BEGIN:STANDARD
TZOFFSETFROM:+0100
TZOFFSETTO:+0000
TZNAME:GMT
DTSTART:20261025T010000
END:STANDARD
BEGIN:DAYLIGHT
TZOFFSETFROM:+0000
TZOFFSETTO:+0100
TZNAME:BST
DTSTART:20270328T010000
END:DAYLIGHT
BEGIN:STANDARD
TZOFFSETFROM:+0100
TZOFFSETTO:+0000
TZNAME:GMT
DTSTART:20271031T010000
END:STANDARD
END:VTIMEZONE
BEGIN:VEVENT
DTSTART;VALUE=DATE:20260913
DTEND;VALUE=DATE:20260914
DTSTAMP:20260423T210408
CREATED:20260127T141835Z
LAST-MODIFIED:20260128T092545Z
UID:11720-1789257600-1789343999@www.abps.org.uk
SUMMARY:Stampersham 2026
DESCRIPTION:A stamps\, postal history and post card fair held in a modern bright hall with good light.\nEasily reached from the M40 or just few minutes walk from Metropolitan and Chiltern line railway station\nThe event is kindly supported by Cavendish Philatelic Auctioneers and has a good range of dealers attending.\nThe Thames Valley annual 16 sheet competition will be exhibited on the day\nCatering all day and ample cheap parking.
URL:https://www.abps.org.uk/event/stampersham-2026/
LOCATION:Chiltern Lifestyle Centre\, Chiltern Avenue\, Amersham\, Buckinghamshire\, HP6 5AH\, United Kingdom
CATEGORIES:Local Events,National Events,Regional Events
END:VEVENT
END:VCALENDAR