BEGIN:VCALENDAR
VERSION:2.0
PRODID:-//ABPS - ECPv6.15.20//NONSGML v1.0//EN
CALSCALE:GREGORIAN
METHOD:PUBLISH
X-ORIGINAL-URL:https://www.abps.org.uk
X-WR-CALDESC:Events for ABPS
REFRESH-INTERVAL;VALUE=DURATION:PT1H
X-Robots-Tag:noindex
X-PUBLISHED-TTL:PT1H
BEGIN:VTIMEZONE
TZID:Europe/London
BEGIN:DAYLIGHT
TZOFFSETFROM:+0000
TZOFFSETTO:+0100
TZNAME:BST
DTSTART:20230326T010000
END:DAYLIGHT
BEGIN:STANDARD
TZOFFSETFROM:+0100
TZOFFSETTO:+0000
TZNAME:GMT
DTSTART:20231029T010000
END:STANDARD
BEGIN:DAYLIGHT
TZOFFSETFROM:+0000
TZOFFSETTO:+0100
TZNAME:BST
DTSTART:20240331T010000
END:DAYLIGHT
BEGIN:STANDARD
TZOFFSETFROM:+0100
TZOFFSETTO:+0000
TZNAME:GMT
DTSTART:20241027T010000
END:STANDARD
BEGIN:DAYLIGHT
TZOFFSETFROM:+0000
TZOFFSETTO:+0100
TZNAME:BST
DTSTART:20250330T010000
END:DAYLIGHT
BEGIN:STANDARD
TZOFFSETFROM:+0100
TZOFFSETTO:+0000
TZNAME:GMT
DTSTART:20251026T010000
END:STANDARD
END:VTIMEZONE
BEGIN:VEVENT
DTSTART;TZID=Europe/London:20240515T170000
DTEND;TZID=Europe/London:20240515T190000
DTSTAMP:20260423T105422
CREATED:20240203T171747Z
LAST-MODIFIED:20240203T171924Z
UID:10385-1715792400-1715799600@www.abps.org.uk
SUMMARY:Stuart Rossiter Lecture 2024: Postal History - Which is more interesting\, the postal aspect or the history aspect?
DESCRIPTION:The 2024 Memorial Lecture will be held at 5.00pm on Wednesday 15th May at the RPSL\, 15 Abchurch Lane\, London EC4N 7BW\, when Simon Martin-Redman will give his lecture “Postal History – Which is more interesting\, the postal aspect or the history aspect?” \nAdmittance is by ticket only. For a free ticket\, please apply to Rex Dixon – rexdixon@btinternet.com \nFor more information\, please click here.
URL:https://www.abps.org.uk/event/stuart-rossiter-lecture-2024-postal-history-which-is-more-interesting-the-postal-aspect-or-the-history-aspect/
LOCATION:Royal Philatelic Society London\, 15 Abchurch Lane\, London\, EC4N 7BW\, United Kingdom
CATEGORIES:National Events
ATTACH;FMTTYPE=image/jpeg:https://www.abps.org.uk/wp-content/uploads/Stuart-Rossiter-Page-Image-1.jpg
ORGANIZER;CN="Stuart Rossiter Trust":MAILTO:rexdixon@btinternet.com
END:VEVENT
END:VCALENDAR