BEGIN:VCALENDAR
VERSION:2.0
PRODID:-//ABPS - ECPv6.15.20//NONSGML v1.0//EN
CALSCALE:GREGORIAN
METHOD:PUBLISH
X-WR-CALNAME:ABPS
X-ORIGINAL-URL:https://www.abps.org.uk
X-WR-CALDESC:Events for ABPS
REFRESH-INTERVAL;VALUE=DURATION:PT1H
X-Robots-Tag:noindex
X-PUBLISHED-TTL:PT1H
BEGIN:VTIMEZONE
TZID:Europe/London
BEGIN:DAYLIGHT
TZOFFSETFROM:+0000
TZOFFSETTO:+0100
TZNAME:BST
DTSTART:20250330T010000
END:DAYLIGHT
BEGIN:STANDARD
TZOFFSETFROM:+0100
TZOFFSETTO:+0000
TZNAME:GMT
DTSTART:20251026T010000
END:STANDARD
BEGIN:DAYLIGHT
TZOFFSETFROM:+0000
TZOFFSETTO:+0100
TZNAME:BST
DTSTART:20260329T010000
END:DAYLIGHT
BEGIN:STANDARD
TZOFFSETFROM:+0100
TZOFFSETTO:+0000
TZNAME:GMT
DTSTART:20261025T010000
END:STANDARD
BEGIN:DAYLIGHT
TZOFFSETFROM:+0000
TZOFFSETTO:+0100
TZNAME:BST
DTSTART:20270328T010000
END:DAYLIGHT
BEGIN:STANDARD
TZOFFSETFROM:+0100
TZOFFSETTO:+0000
TZNAME:GMT
DTSTART:20271031T010000
END:STANDARD
END:VTIMEZONE
BEGIN:VEVENT
DTSTART;TZID=Europe/London:20260812T180000
DTEND;TZID=Europe/London:20260812T200000
DTSTAMP:20260423T180729
CREATED:20250818T112722Z
LAST-MODIFIED:20250818T112913Z
UID:11541-1786557600-1786564800@www.abps.org.uk
SUMMARY:GBPS: Stanley Gibbons Summer Gathering
DESCRIPTION:    \n6pm: Members Displays \nGBPS Meeting hosted by Stanley Gibbons for GB collectors. Drinks & Refreshments with Members’ Displays on view. \nVisitors are welcome. Check GBPS website for more information. www.gbps.org.uk \nMembership costs just £35 per annum\, including six issues of the GBPS Journal\, Newsletter and members access to the award-winning website
URL:https://www.abps.org.uk/event/gbps-strnaley-gibbons-summer-gathering/
LOCATION:Stanley Gibbons Ltd\, 399 Strand\, London\, WC2R 0LX\, United Kingdom
CATEGORIES:National Events,Regional Events
ORGANIZER;CN="GBPS":MAILTO:membership@gbps.org.uk
END:VEVENT
END:VCALENDAR