BEGIN:VCALENDAR
VERSION:2.0
PRODID:-//ABPS - ECPv6.15.20//NONSGML v1.0//EN
CALSCALE:GREGORIAN
METHOD:PUBLISH
X-WR-CALNAME:ABPS
X-ORIGINAL-URL:https://www.abps.org.uk
X-WR-CALDESC:Events for ABPS
REFRESH-INTERVAL;VALUE=DURATION:PT1H
X-Robots-Tag:noindex
X-PUBLISHED-TTL:PT1H
BEGIN:VTIMEZONE
TZID:Europe/London
BEGIN:DAYLIGHT
TZOFFSETFROM:+0000
TZOFFSETTO:+0100
TZNAME:BST
DTSTART:20250330T010000
END:DAYLIGHT
BEGIN:STANDARD
TZOFFSETFROM:+0100
TZOFFSETTO:+0000
TZNAME:GMT
DTSTART:20251026T010000
END:STANDARD
BEGIN:DAYLIGHT
TZOFFSETFROM:+0000
TZOFFSETTO:+0100
TZNAME:BST
DTSTART:20260329T010000
END:DAYLIGHT
BEGIN:STANDARD
TZOFFSETFROM:+0100
TZOFFSETTO:+0000
TZNAME:GMT
DTSTART:20261025T010000
END:STANDARD
BEGIN:DAYLIGHT
TZOFFSETFROM:+0000
TZOFFSETTO:+0100
TZNAME:BST
DTSTART:20270328T010000
END:DAYLIGHT
BEGIN:STANDARD
TZOFFSETFROM:+0100
TZOFFSETTO:+0000
TZNAME:GMT
DTSTART:20271031T010000
END:STANDARD
END:VTIMEZONE
BEGIN:VEVENT
DTSTART;TZID=Europe/London:20260711T140000
DTEND;TZID=Europe/London:20260711T150000
DTSTAMP:20260423T163404
CREATED:20250818T112416Z
LAST-MODIFIED:20250818T112416Z
UID:11540-1783778400-1783782000@www.abps.org.uk
SUMMARY:GBPS Zoom Meeting: Smallpox Vaccination
DESCRIPTION:2pm: Chris George – Smallpox Vaccination & Anti-Vaccination Postal History 1840 – 1860 \nVisitors are welcome. Check GBPS website for more information. www.gbps.org.uk \nMembership costs just £35 per annum\, including six issues of the GBPS Journal\, Newsletter and members access to the award-winning website
URL:https://www.abps.org.uk/event/gbps-zoom-meeting-smallpox-vaccination/
LOCATION:On Line Zoom Display
CATEGORIES:National Events
ORGANIZER;CN="GBPS":MAILTO:membership@gbps.org.uk
END:VEVENT
BEGIN:VEVENT
DTSTART;VALUE=DATE:20260717
DTEND;VALUE=DATE:20260719
DTSTAMP:20260423T163404
CREATED:20250915T143119Z
LAST-MODIFIED:20250915T214808Z
UID:11576-1784246400-1784419199@www.abps.org.uk
SUMMARY:York Stamp & Coin Fair
DESCRIPTION:The York Stamp & Coin Fair has been running since the 1980s and continues to attract leading stamp\, postal history\, coin\, banknote and medal dealers. There are specialist society meetings to which everyone is welcome\, where guest speakers discuss their particular interests and collections. Visitors are invited to come and browse\, shop or bring their own collections for a professional valuation. Admission to the fair is free and there is free car parking available. There is a bar and self-service restaurant on-site.
URL:https://www.abps.org.uk/event/york-stamp-coin-fair-5/
LOCATION:York Racecourse\, The Raceourse\, York\, YO23 1EX\, United Kingdom
CATEGORIES:National Events,Regional Events
END:VEVENT
END:VCALENDAR