BEGIN:VCALENDAR
VERSION:2.0
PRODID:-//ABPS - ECPv6.15.20//NONSGML v1.0//EN
CALSCALE:GREGORIAN
METHOD:PUBLISH
X-WR-CALNAME:ABPS
X-ORIGINAL-URL:https://www.abps.org.uk
X-WR-CALDESC:Events for ABPS
REFRESH-INTERVAL;VALUE=DURATION:PT1H
X-Robots-Tag:noindex
X-PUBLISHED-TTL:PT1H
BEGIN:VTIMEZONE
TZID:Europe/London
BEGIN:DAYLIGHT
TZOFFSETFROM:+0000
TZOFFSETTO:+0100
TZNAME:BST
DTSTART:20250330T010000
END:DAYLIGHT
BEGIN:STANDARD
TZOFFSETFROM:+0100
TZOFFSETTO:+0000
TZNAME:GMT
DTSTART:20251026T010000
END:STANDARD
BEGIN:DAYLIGHT
TZOFFSETFROM:+0000
TZOFFSETTO:+0100
TZNAME:BST
DTSTART:20260329T010000
END:DAYLIGHT
BEGIN:STANDARD
TZOFFSETFROM:+0100
TZOFFSETTO:+0000
TZNAME:GMT
DTSTART:20261025T010000
END:STANDARD
BEGIN:DAYLIGHT
TZOFFSETFROM:+0000
TZOFFSETTO:+0100
TZNAME:BST
DTSTART:20270328T010000
END:DAYLIGHT
BEGIN:STANDARD
TZOFFSETFROM:+0100
TZOFFSETTO:+0000
TZNAME:GMT
DTSTART:20271031T010000
END:STANDARD
END:VTIMEZONE
BEGIN:VEVENT
DTSTART;VALUE=DATE:20260626
DTEND;VALUE=DATE:20260628
DTSTAMP:20260423T150327
CREATED:20260208T152126Z
LAST-MODIFIED:20260209T114806Z
UID:11745-1782432000-1782604799@www.abps.org.uk
SUMMARY:KEMPTON PARK STAMP SHOW
DESCRIPTION:One of the largest stamp shows in the South of England\, with local national and International dealers covering all aspects of Philately and postal history\, a full list of dealers attending can be found on the shows website www.kemptonparkstampshow.co.uk
URL:https://www.abps.org.uk/event/kempton-park-stamp-show-2/
LOCATION:Kempton Park Racecourse\, Staines Road East\, Sunbury on Thames\, TW16 5AQ
CATEGORIES:National Events,Regional Events
END:VEVENT
BEGIN:VEVENT
DTSTART;TZID=Europe/London:20260627T110000
DTEND;TZID=Europe/London:20260627T163000
DTSTAMP:20260423T150327
CREATED:20250818T112152Z
LAST-MODIFIED:20250818T112152Z
UID:11539-1782558000-1782577800@www.abps.org.uk
SUMMARY:GBPS Display Meeting: The President's Guest & AGM
DESCRIPTION:11am: The President’s Guest – Graham Stockdale – Intriguing Covers 1839 – 1879 \n2.15pm: AGM\, followed by Members Displays \nVisitors are welcome. Check GBPS website for more information. www.gbps.org.uk \nMembership costs just £35 per annum\, including six issues of the GBPS Journal\, Newsletter and members access to the award-winning website
URL:https://www.abps.org.uk/event/gbps-display-meeting-the-presidents-guest-agm/
LOCATION:Royal Philatelic Society London\, 15 Abchurch Lane\, London\, EC4N 7BW\, United Kingdom
CATEGORIES:National Events,Regional Events
ORGANIZER;CN="GBPS":MAILTO:membership@gbps.org.uk
END:VEVENT
END:VCALENDAR