BEGIN:VCALENDAR
VERSION:2.0
PRODID:-//ABPS - ECPv6.15.20//NONSGML v1.0//EN
CALSCALE:GREGORIAN
METHOD:PUBLISH
X-ORIGINAL-URL:https://www.abps.org.uk
X-WR-CALDESC:Events for ABPS
REFRESH-INTERVAL;VALUE=DURATION:PT1H
X-Robots-Tag:noindex
X-PUBLISHED-TTL:PT1H
BEGIN:VTIMEZONE
TZID:Europe/London
BEGIN:DAYLIGHT
TZOFFSETFROM:+0000
TZOFFSETTO:+0100
TZNAME:BST
DTSTART:20240331T010000
END:DAYLIGHT
BEGIN:STANDARD
TZOFFSETFROM:+0100
TZOFFSETTO:+0000
TZNAME:GMT
DTSTART:20241027T010000
END:STANDARD
BEGIN:DAYLIGHT
TZOFFSETFROM:+0000
TZOFFSETTO:+0100
TZNAME:BST
DTSTART:20250330T010000
END:DAYLIGHT
BEGIN:STANDARD
TZOFFSETFROM:+0100
TZOFFSETTO:+0000
TZNAME:GMT
DTSTART:20251026T010000
END:STANDARD
BEGIN:DAYLIGHT
TZOFFSETFROM:+0000
TZOFFSETTO:+0100
TZNAME:BST
DTSTART:20260329T010000
END:DAYLIGHT
BEGIN:STANDARD
TZOFFSETFROM:+0100
TZOFFSETTO:+0000
TZNAME:GMT
DTSTART:20261025T010000
END:STANDARD
END:VTIMEZONE
BEGIN:VEVENT
DTSTART;VALUE=DATE:20250301
DTEND;VALUE=DATE:20250302
DTSTAMP:20260424T151132
CREATED:20240828T140040Z
LAST-MODIFIED:20240828T154121Z
UID:11035-1740787200-1740873599@www.abps.org.uk
SUMMARY:Launceston Stamp Fair
DESCRIPTION:Launceston Stamp Club annual fair – new venue with parking & refreshments
URL:https://www.abps.org.uk/event/launceston-stamp-fair-2/
LOCATION:Lifton Community Centre\, Park Wood Rise\, Lifton\, Cornwall\, PL16 0LA\, United Kingdom
CATEGORIES:Local Events
END:VEVENT
BEGIN:VEVENT
DTSTART;TZID=Europe/London:20250301T093000
DTEND;TZID=Europe/London:20250301T153000
DTSTAMP:20260424T151132
CREATED:20250109T110804Z
LAST-MODIFIED:20250110T114126Z
UID:11225-1740821400-1740843000@www.abps.org.uk
SUMMARY:Launceston Stamp and Postcard Fair
DESCRIPTION:– Dealers\n– Stamps\n– Postal history\n– Postcards\n– Collections\n– Free admission\n– Raffle and light refreshments\n– All welcome!\n– Bring your collections for a free valuation
URL:https://www.abps.org.uk/event/launceston-stamp-and-postcard-fair/
LOCATION:Lifton Community Centre\, Park Wood Rise\, Lifton\, Cornwall\, PL16 0LA\, United Kingdom
CATEGORIES:Local Events,Regional Events
END:VEVENT
END:VCALENDAR