BEGIN:VCALENDAR
VERSION:2.0
PRODID:-//ABPS - ECPv6.15.20//NONSGML v1.0//EN
CALSCALE:GREGORIAN
METHOD:PUBLISH
X-WR-CALNAME:ABPS
X-ORIGINAL-URL:https://www.abps.org.uk
X-WR-CALDESC:Events for ABPS
REFRESH-INTERVAL;VALUE=DURATION:PT1H
X-Robots-Tag:noindex
X-PUBLISHED-TTL:PT1H
BEGIN:VTIMEZONE
TZID:Europe/London
BEGIN:DAYLIGHT
TZOFFSETFROM:+0000
TZOFFSETTO:+0100
TZNAME:BST
DTSTART:20240331T010000
END:DAYLIGHT
BEGIN:STANDARD
TZOFFSETFROM:+0100
TZOFFSETTO:+0000
TZNAME:GMT
DTSTART:20241027T010000
END:STANDARD
BEGIN:DAYLIGHT
TZOFFSETFROM:+0000
TZOFFSETTO:+0100
TZNAME:BST
DTSTART:20250330T010000
END:DAYLIGHT
BEGIN:STANDARD
TZOFFSETFROM:+0100
TZOFFSETTO:+0000
TZNAME:GMT
DTSTART:20251026T010000
END:STANDARD
BEGIN:DAYLIGHT
TZOFFSETFROM:+0000
TZOFFSETTO:+0100
TZNAME:BST
DTSTART:20260329T010000
END:DAYLIGHT
BEGIN:STANDARD
TZOFFSETFROM:+0100
TZOFFSETTO:+0000
TZNAME:GMT
DTSTART:20261025T010000
END:STANDARD
END:VTIMEZONE
BEGIN:VEVENT
DTSTART;VALUE=DATE:20250507
DTEND;VALUE=DATE:20250512
DTSTAMP:20260426T010345
CREATED:20230809T142812Z
LAST-MODIFIED:20240305T141456Z
UID:9886-1746576000-1747007999@www.abps.org.uk
SUMMARY:Europhilex 2025
DESCRIPTION:     3\nInternational Exhibition with FEPA & FIP Patronage. All FIP classes except Youth are available and now open for entries. Entry forms and IREX can be found on the Exhibition website. The entry fee is £95 per frame and £40 for literature. UK entries are not subject to a handling fee. \nEurophilex will have over 2\,000 frames and a wide range of dealers with up to 10\,000 sq. metres available. London 2022 occupied 6\,000 sq.m. \nMeeting Rooms will be available to Societies and there will be a full programme of lectures and entertainments.
URL:https://www.abps.org.uk/event/europhilex-2025/
LOCATION:National Exhibition Centre\, Marston Green\, Birmingham\, B40 1NT\, United Kingdom
CATEGORIES:International Exhibitions
ORGANIZER;CN="Stamp World Exhibitions":MAILTO:admin@london2020.co
END:VEVENT
BEGIN:VEVENT
DTSTART;TZID=Europe/London:20250509T110000
DTEND;TZID=Europe/London:20250509T170000
DTSTAMP:20260426T010345
CREATED:20240628T140239Z
LAST-MODIFIED:20240628T140239Z
UID:10875-1746788400-1746810000@www.abps.org.uk
SUMMARY:GBPS Meeting at Europhilex
DESCRIPTION:All Day Meeting with members displays with the focus on our international members. \nVisitors are welcome. See the GBPS website for more information.
URL:https://www.abps.org.uk/event/gbps-meeting-at-europhilex/
LOCATION:National Exhibition Centre\, Marston Green\, Birmingham\, B40 1NT\, United Kingdom
CATEGORIES:International Exhibitions,National Events
ATTACH;FMTTYPE=image/png:https://www.abps.org.uk/wp-content/uploads/gbpslogo.png
ORGANIZER;CN="GBPS":MAILTO:membership@gbps.org.uk
END:VEVENT
END:VCALENDAR