BEGIN:VCALENDAR
VERSION:2.0
PRODID:-//ABPS - ECPv6.15.20//NONSGML v1.0//EN
CALSCALE:GREGORIAN
METHOD:PUBLISH
X-ORIGINAL-URL:https://www.abps.org.uk
X-WR-CALDESC:Events for ABPS
REFRESH-INTERVAL;VALUE=DURATION:PT1H
X-Robots-Tag:noindex
X-PUBLISHED-TTL:PT1H
BEGIN:VTIMEZONE
TZID:Europe/London
BEGIN:DAYLIGHT
TZOFFSETFROM:+0000
TZOFFSETTO:+0100
TZNAME:BST
DTSTART:20240331T010000
END:DAYLIGHT
BEGIN:STANDARD
TZOFFSETFROM:+0100
TZOFFSETTO:+0000
TZNAME:GMT
DTSTART:20241027T010000
END:STANDARD
BEGIN:DAYLIGHT
TZOFFSETFROM:+0000
TZOFFSETTO:+0100
TZNAME:BST
DTSTART:20250330T010000
END:DAYLIGHT
BEGIN:STANDARD
TZOFFSETFROM:+0100
TZOFFSETTO:+0000
TZNAME:GMT
DTSTART:20251026T010000
END:STANDARD
BEGIN:DAYLIGHT
TZOFFSETFROM:+0000
TZOFFSETTO:+0100
TZNAME:BST
DTSTART:20260329T010000
END:DAYLIGHT
BEGIN:STANDARD
TZOFFSETFROM:+0100
TZOFFSETTO:+0000
TZNAME:GMT
DTSTART:20261025T010000
END:STANDARD
END:VTIMEZONE
BEGIN:VEVENT
DTSTART;TZID=Europe/London:20250111T103000
DTEND;TZID=Europe/London:20250111T153000
DTSTAMP:20260421T140026
CREATED:20241206T161912Z
LAST-MODIFIED:20241207T101655Z
UID:11186-1736591400-1736609400@www.abps.org.uk
SUMMARY:National Philatelic Society Meeting: French Somali Coast including Obock and Djibouti
DESCRIPTION:National Philatelic Society Meeting and Display at the Royal Philatelic Society\, 15 Abchurch Lane\, London EC4N 7BW. French Somali Coast including Obock & Djibouti – Display by Mick Bister FRPSL starting at 2pm. The morning features our usual Auction with room and postal bidding commencing at 11.30am with viewing from 10.30am. Visitors welcome – please see our website for details – www.ukphilately/org/uk/nps
URL:https://www.abps.org.uk/event/national-philatelic-society-meeting-french-somali-coast-including-obock-and-djibouti/
LOCATION:Royal Philatelic Society London\, 15 Abchurch Lane\, London\, EC4N 7BW\, United Kingdom
CATEGORIES:Local Events,National Events,Regional Events
END:VEVENT
BEGIN:VEVENT
DTSTART;TZID=Europe/London:20250111T110000
DTEND;TZID=Europe/London:20250111T170000
DTSTAMP:20260421T140026
CREATED:20240628T134621Z
LAST-MODIFIED:20240628T134621Z
UID:10870-1736593200-1736614800@www.abps.org.uk
SUMMARY:GBPS Displays Meeting
DESCRIPTION:11:00am Ian Shapiro GB Royal Household Postal History and Related Ephemera\nTraditional two Lay down\n2:15pm Peter Chadwick FRPSL Development of Early Scottish Mails\nTraditional two Lay Down \nVisitors are welcome. See the GBPS website for more information.
URL:https://www.abps.org.uk/event/gbps-displays-meeting-3/
LOCATION:Royal Philatelic Society London\, 15 Abchurch Lane\, London\, EC4N 7BW\, United Kingdom
CATEGORIES:National Events
ATTACH;FMTTYPE=image/png:https://www.abps.org.uk/wp-content/uploads/gbpslogo.png
ORGANIZER;CN="GBPS":MAILTO:membership@gbps.org.uk
END:VEVENT
END:VCALENDAR