BEGIN:VCALENDAR
VERSION:2.0
PRODID:-//ABPS - ECPv6.15.20//NONSGML v1.0//EN
CALSCALE:GREGORIAN
METHOD:PUBLISH
X-WR-CALNAME:ABPS
X-ORIGINAL-URL:https://www.abps.org.uk
X-WR-CALDESC:Events for ABPS
REFRESH-INTERVAL;VALUE=DURATION:PT1H
X-Robots-Tag:noindex
X-PUBLISHED-TTL:PT1H
BEGIN:VTIMEZONE
TZID:Europe/London
BEGIN:DAYLIGHT
TZOFFSETFROM:+0000
TZOFFSETTO:+0100
TZNAME:BST
DTSTART:20220327T010000
END:DAYLIGHT
BEGIN:STANDARD
TZOFFSETFROM:+0100
TZOFFSETTO:+0000
TZNAME:GMT
DTSTART:20221030T010000
END:STANDARD
BEGIN:DAYLIGHT
TZOFFSETFROM:+0000
TZOFFSETTO:+0100
TZNAME:BST
DTSTART:20230326T010000
END:DAYLIGHT
BEGIN:STANDARD
TZOFFSETFROM:+0100
TZOFFSETTO:+0000
TZNAME:GMT
DTSTART:20231029T010000
END:STANDARD
BEGIN:DAYLIGHT
TZOFFSETFROM:+0000
TZOFFSETTO:+0100
TZNAME:BST
DTSTART:20240331T010000
END:DAYLIGHT
BEGIN:STANDARD
TZOFFSETFROM:+0100
TZOFFSETTO:+0000
TZNAME:GMT
DTSTART:20241027T010000
END:STANDARD
END:VTIMEZONE
BEGIN:VEVENT
DTSTART;TZID=Europe/London:20230927T100000
DTEND;TZID=Europe/London:20230930T170000
DTSTAMP:20260422T203553
CREATED:20230220T153003Z
LAST-MODIFIED:20230220T153003Z
UID:9449-1695808800-1696093200@www.abps.org.uk
SUMMARY:STAMPEX INTERNATIONAL 2023
DESCRIPTION:This is the UK’s largest national stamp show. See the website for full information.
URL:https://www.abps.org.uk/event/stampex-international-2023/
LOCATION:Business Design Centre\, 52 Upper St\, The Angel\,\, London\, N1 0QH
CATEGORIES:National Events
ATTACH;FMTTYPE=image/jpeg:https://www.abps.org.uk/wp-content/uploads/Stampex-International-Banner.jpg
ORGANIZER;CN="Philatelic Traders' Society":MAILTO:info@thepts.net
END:VEVENT
BEGIN:VEVENT
DTSTART;VALUE=DATE:20230930
DTEND;VALUE=DATE:20231001
DTSTAMP:20260422T203553
CREATED:20230823T095202Z
LAST-MODIFIED:20230823T135227Z
UID:9919-1696032000-1696118399@www.abps.org.uk
SUMMARY:Grampian Stamp and Postcard Fair
DESCRIPTION:Annual stamp and postcard fair
URL:https://www.abps.org.uk/event/grampian-stamp-and-postcard-fair-2/
LOCATION:Queens Road Parish Curch\, Albyn Place\, Aberdeen\, AB10 1YN\, United Kingdom
CATEGORIES:Local Events,Regional Events
END:VEVENT
BEGIN:VEVENT
DTSTART;TZID=Europe/London:20230930T140000
DTEND;TZID=Europe/London:20230930T160000
DTSTAMP:20260422T203553
CREATED:20230530T092343Z
LAST-MODIFIED:20230530T092726Z
UID:9696-1696082400-1696089600@www.abps.org.uk
SUMMARY:GBPS Meeting at Stampex by John Copeland: "Bells - a photographic postcard publisher 1902-1957"
DESCRIPTION:GBPS Presentation during Stampex by John Copeland: “Bells – a photographic postcard publisher 1902-1957” \nVisitors are welcome. Check GBPS website for more information. www.gbps.org.uk \nMembership costs just £35 per annum\, including six issues of the GBPS Journal\, Newsletter and members access to the award-winning website
URL:https://www.abps.org.uk/event/gbps-meeting-at-stampex-by-john-copeland-bells-a-photographic-postcard-publisher-1902-1957/
LOCATION:Business Design Centre\, 52 Upper St\, The Angel\,\, London\, N1 0QH
CATEGORIES:National Events
ATTACH;FMTTYPE=image/png:https://www.abps.org.uk/wp-content/uploads/gbpslogo.png
ORGANIZER;CN="GBPS":MAILTO:membership@gbps.org.uk
END:VEVENT
END:VCALENDAR