BEGIN:VCALENDAR
VERSION:2.0
PRODID:-//ABPS - ECPv6.15.20//NONSGML v1.0//EN
CALSCALE:GREGORIAN
METHOD:PUBLISH
X-WR-CALNAME:ABPS
X-ORIGINAL-URL:https://www.abps.org.uk
X-WR-CALDESC:Events for ABPS
REFRESH-INTERVAL;VALUE=DURATION:PT1H
X-Robots-Tag:noindex
X-PUBLISHED-TTL:PT1H
BEGIN:VTIMEZONE
TZID:Europe/London
BEGIN:DAYLIGHT
TZOFFSETFROM:+0000
TZOFFSETTO:+0100
TZNAME:BST
DTSTART:20220327T010000
END:DAYLIGHT
BEGIN:STANDARD
TZOFFSETFROM:+0100
TZOFFSETTO:+0000
TZNAME:GMT
DTSTART:20221030T010000
END:STANDARD
BEGIN:DAYLIGHT
TZOFFSETFROM:+0000
TZOFFSETTO:+0100
TZNAME:BST
DTSTART:20230326T010000
END:DAYLIGHT
BEGIN:STANDARD
TZOFFSETFROM:+0100
TZOFFSETTO:+0000
TZNAME:GMT
DTSTART:20231029T010000
END:STANDARD
BEGIN:DAYLIGHT
TZOFFSETFROM:+0000
TZOFFSETTO:+0100
TZNAME:BST
DTSTART:20240331T010000
END:DAYLIGHT
BEGIN:STANDARD
TZOFFSETFROM:+0100
TZOFFSETTO:+0000
TZNAME:GMT
DTSTART:20241027T010000
END:STANDARD
END:VTIMEZONE
BEGIN:VEVENT
DTSTART;TZID=Europe/London:20230916T100000
DTEND;TZID=Europe/London:20230916T160000
DTSTAMP:20260425T013949
CREATED:20230825T111951Z
LAST-MODIFIED:20230825T115223Z
UID:9929-1694858400-1694880000@www.abps.org.uk
SUMMARY:Orpington Stamp and Postcard Fair plus Auction viewing
DESCRIPTION:A local stamp fair with dealers offering a wide range of philatelic material and includes a viewing of lots for the online auction which ends at 2pm on the 16th September.
URL:https://www.abps.org.uk/event/orpington-stamp-and-postcard-fair-plus-auction-viewing/
LOCATION:Christ Lutheran Church Hall\, 127 Poverest Road\, Orpington\, Kent\, BR5 1RD\, United Kingdom
CATEGORIES:Local Events
END:VEVENT
END:VCALENDAR