BEGIN:VCALENDAR
VERSION:2.0
PRODID:-//ABPS - ECPv6.15.20//NONSGML v1.0//EN
CALSCALE:GREGORIAN
METHOD:PUBLISH
X-ORIGINAL-URL:https://www.abps.org.uk
X-WR-CALDESC:Events for ABPS
REFRESH-INTERVAL;VALUE=DURATION:PT1H
X-Robots-Tag:noindex
X-PUBLISHED-TTL:PT1H
BEGIN:VTIMEZONE
TZID:Europe/London
BEGIN:DAYLIGHT
TZOFFSETFROM:+0000
TZOFFSETTO:+0100
TZNAME:BST
DTSTART:20220327T010000
END:DAYLIGHT
BEGIN:STANDARD
TZOFFSETFROM:+0100
TZOFFSETTO:+0000
TZNAME:GMT
DTSTART:20221030T010000
END:STANDARD
BEGIN:DAYLIGHT
TZOFFSETFROM:+0000
TZOFFSETTO:+0100
TZNAME:BST
DTSTART:20230326T010000
END:DAYLIGHT
BEGIN:STANDARD
TZOFFSETFROM:+0100
TZOFFSETTO:+0000
TZNAME:GMT
DTSTART:20231029T010000
END:STANDARD
BEGIN:DAYLIGHT
TZOFFSETFROM:+0000
TZOFFSETTO:+0100
TZNAME:BST
DTSTART:20240331T010000
END:DAYLIGHT
BEGIN:STANDARD
TZOFFSETFROM:+0100
TZOFFSETTO:+0000
TZNAME:GMT
DTSTART:20241027T010000
END:STANDARD
END:VTIMEZONE
BEGIN:VEVENT
DTSTART;TZID=Europe/London:20230816T180000
DTEND;TZID=Europe/London:20230816T200000
DTSTAMP:20260424T235907
CREATED:20220907T095908Z
LAST-MODIFIED:20220907T095908Z
UID:9083-1692208800-1692216000@www.abps.org.uk
SUMMARY:GBPS Stanley Gibbons Summer Reception
DESCRIPTION:Reception hosted by Stanley Gibbons at 391 Strand\, London with displays be members. Refreshments usually available. \nGuests Weclome.
URL:https://www.abps.org.uk/event/gbps-stanley-gibbons-summer-reception/
LOCATION:Stanley Gibbons Ltd\, 399 Strand\, London\, WC2R 0LX\, United Kingdom
CATEGORIES:National Events
END:VEVENT
END:VCALENDAR